BEGIN:VCALENDAR
PRODID:-//PUBBLE//agenda//NL
VERSION:2.0
METHOD:PUBLISH
BEGIN:VEVENT
DTSTART:20260406T083000Z
DTEND:20260629T134000Z
DTSTAMP:20260420T011944Z
UID:ef2f3861-cc5e-4422-ada3-c20efcc715f4
CREATED:20260420T011944Z
NAME:Lex geheugentraining gooiagenda.nl
X-WR-CALNAME:Lex geheugentraining
X-ALT-DESC;FMTTYPE=text/html:<a href='/agenda/2026/4/6/lex-geheugentraining-346577'>/agenda/2026/4/6/lex-geheugentraining-346577</a> || <p>&nbsp;Wil je je hersens breken? Zo ja, dan is er op maandagochtend van 10.30 tot 12.00 uur geheugentraining in de Palmpit o.l.v. Lex van de Linde.</p><p>Oefeningen doen in een prettige sfeer, dan zijn onze hersens ook weer fit.</p><p>Kosten € 2,00 per keer.</p>
DESCRIPTION:<a href='/agenda/2026/4/6/lex-geheugentraining-346577'>/agenda/2026/4/6/lex-geheugentraining-346577</a> || <p>&nbsp;Wil je je hersens breken? Zo ja, dan is er op maandagochtend van 10.30 tot 12.00 uur geheugentraining in de Palmpit o.l.v. Lex van de Linde.</p><p>Oefeningen doen in een prettige sfeer, dan zijn onze hersens ook weer fit.</p><p>Kosten € 2,00 per keer.</p>
LAST-MODIFIED:20260420T011944Z
LOCATION: De Palmpit Bussum | Koekoeklaan  3 Bussum
SEQUENCE:0
STATUS:CONFIRMED
SUMMARY:Lex geheugentraining
TRANSP:OPAQUE
END:VEVENT
END:VCALENDAR
