BEGIN:VCALENDAR
PRODID:-//PUBBLE//agenda//NL
VERSION:2.0
METHOD:PUBLISH
BEGIN:VEVENT
DTSTART:20260108T130900Z
DTEND:20260924T110400Z
DTSTAMP:20260425T165240Z
UID:47edc617-8359-4027-97e8-d5507e3d61e0
CREATED:20260425T165240Z
NAME:Schilderen gooiagenda.nl
X-WR-CALNAME:Schilderen
X-ALT-DESC;FMTTYPE=text/html:<a href='/agenda/2026/1/8/schilderen-347488'>/agenda/2026/1/8/schilderen-347488</a> || <p>Iedere donderdagochtend van 10.30- 12.00 Schilderen in SOOV. Vrije inloop. Kosten 3,50 pp voor de materialen en 1 bakje koffie of thee</p>
DESCRIPTION:<a href='/agenda/2026/1/8/schilderen-347488'>/agenda/2026/1/8/schilderen-347488</a> || <p>Iedere donderdagochtend van 10.30- 12.00 Schilderen in SOOV. Vrije inloop. Kosten 3,50 pp voor de materialen en 1 bakje koffie of thee</p>
LAST-MODIFIED:20260425T165240Z
LOCATION: SOOV | Lange Heul 32 Bussum
SEQUENCE:0
STATUS:CONFIRMED
SUMMARY:Schilderen
TRANSP:OPAQUE
END:VEVENT
END:VCALENDAR
