BEGIN:VCALENDAR
PRODID:-//PUBBLE//agenda//NL
VERSION:2.0
METHOD:PUBLISH
BEGIN:VEVENT
DTSTART:20260108T120000Z
DTEND:20261030T114200Z
DTSTAMP:20260425T165240Z
UID:2d5277af-f083-4b47-92f9-4c2ab8f91886
CREATED:20260425T165240Z
NAME:Creatieve middag gooiagenda.nl
X-WR-CALNAME:Creatieve middag
X-ALT-DESC;FMTTYPE=text/html:<a href='/agenda/2026/1/8/creatieve-middag-347498'>/agenda/2026/1/8/creatieve-middag-347498</a> || <p>Creatieve club, haken breien, schilderen, knutselen, alles kan. Vrije inloop. Kosten 3,50 pp voor materialen.</p>
DESCRIPTION:<a href='/agenda/2026/1/8/creatieve-middag-347498'>/agenda/2026/1/8/creatieve-middag-347498</a> || <p>Creatieve club, haken breien, schilderen, knutselen, alles kan. Vrije inloop. Kosten 3,50 pp voor materialen.</p>
LAST-MODIFIED:20260425T165240Z
LOCATION: SOOV | Lange Heul 32 Bussum
SEQUENCE:0
STATUS:CONFIRMED
SUMMARY:Creatieve middag
TRANSP:OPAQUE
END:VEVENT
END:VCALENDAR
