BEGIN:VCALENDAR
PRODID:-//PUBBLE//agenda//NL
VERSION:2.0
METHOD:PUBLISH
BEGIN:VEVENT
DTSTART:20260425T060000Z
DTEND:20260325T110000Z
DTSTAMP:20260424T091718Z
UID:36cd2885-5c1c-468c-a353-1f6910e57be0
CREATED:20260424T091718Z
NAME:Uitgifte kleding gooiagenda.nl
X-WR-CALNAME:Uitgifte kleding
X-ALT-DESC;FMTTYPE=text/html:<a href='/agenda/2026/4/25/uitgifte-kleding-355711'>/agenda/2026/4/25/uitgifte-kleding-355711</a> || <p>Iedere laatste zaterdag van de maand is er een grote uitgifte van (kinder)kleding.</p><p>Ook hebben wij regelmatig spelletjes en spulletjes of huisraad.</p><p>Deze maand is de uitgifte op zaterdag 25 april tussen 10.00u-12.00u</p>
DESCRIPTION:<a href='/agenda/2026/4/25/uitgifte-kleding-355711'>/agenda/2026/4/25/uitgifte-kleding-355711</a> || <p>Iedere laatste zaterdag van de maand is er een grote uitgifte van (kinder)kleding.</p><p>Ook hebben wij regelmatig spelletjes en spulletjes of huisraad.</p><p>Deze maand is de uitgifte op zaterdag 25 april tussen 10.00u-12.00u</p>
LAST-MODIFIED:20260424T091718Z
LOCATION: Wijkcentrum De Geus | Geuzenweg 84 Hilversum
SEQUENCE:0
STATUS:CONFIRMED
SUMMARY:Uitgifte kleding
TRANSP:OPAQUE
END:VEVENT
END:VCALENDAR
