BEGIN:VCALENDAR
PRODID:-//PUBBLE//agenda//NL
VERSION:2.0
METHOD:PUBLISH
BEGIN:VEVENT
DTSTART:20260107T120000Z
DTEND:20260630T171900Z
DTSTAMP:20260425T133931Z
UID:5fd103f8-d0e5-475f-8da1-8152a32a5b6f
CREATED:20260425T133931Z
NAME:Stoelyoga voor je brein gooiagenda.nl
X-WR-CALNAME:Stoelyoga voor je brein
X-ALT-DESC;FMTTYPE=text/html:<a href='/agenda/2026/1/7/stoelyoga-voor-je-brein-357311'>/agenda/2026/1/7/stoelyoga-voor-je-brein-357311</a> || <p>Fitheidstraining in combinatie met stoelyoga voor mensen met geheugenproblemen al dan niet veroorzaakt door dementie. Veel aandacht voor kracht, stabiliteit en coördinatie. Een ieder doet op zijn niveau mee. Na afloop drinken we samen koffie/thee. Kom gratis vier proeflessen doen. info: 06-10874222.</p>
DESCRIPTION:<a href='/agenda/2026/1/7/stoelyoga-voor-je-brein-357311'>/agenda/2026/1/7/stoelyoga-voor-je-brein-357311</a> || <p>Fitheidstraining in combinatie met stoelyoga voor mensen met geheugenproblemen al dan niet veroorzaakt door dementie. Veel aandacht voor kracht, stabiliteit en coördinatie. Een ieder doet op zijn niveau mee. Na afloop drinken we samen koffie/thee. Kom gratis vier proeflessen doen. info: 06-10874222.</p>
LAST-MODIFIED:20260425T133931Z
LOCATION: SOOV | Lange Heul 32 Bussum
SEQUENCE:0
STATUS:CONFIRMED
SUMMARY:Stoelyoga voor je brein
TRANSP:OPAQUE
END:VEVENT
END:VCALENDAR
