BEGIN:VCALENDAR
PRODID:-//PUBBLE//agenda//NL
VERSION:2.0
METHOD:PUBLISH
BEGIN:VEVENT
DTSTART:20251008T093000Z
DTEND:20251210T170200Z
DTSTAMP:20260421T155046Z
UID:b46f0b8c-eb04-43eb-ac6d-1a3f79cb9011
CREATED:20260421T155046Z
NAME:Pilates voor beginners gooiagenda.nl
X-WR-CALNAME:Pilates voor beginners
X-ALT-DESC;FMTTYPE=text/html:<a href='/agenda/2025/10/8/pilates-voor-beginners-360459'>/agenda/2025/10/8/pilates-voor-beginners-360459</a> || <p>Pilates versterkt en verbetert je houding en vermindert spanning en stress. Dit is een beginners cursus klassieke pilates op de mat met Debby Stein du Pré. Inschrijven via www.volksuniversiteithetgooi.nl</p>
DESCRIPTION:<a href='/agenda/2025/10/8/pilates-voor-beginners-360459'>/agenda/2025/10/8/pilates-voor-beginners-360459</a> || <p>Pilates versterkt en verbetert je houding en vermindert spanning en stress. Dit is een beginners cursus klassieke pilates op de mat met Debby Stein du Pré. Inschrijven via www.volksuniversiteithetgooi.nl</p>
LAST-MODIFIED:20260421T155046Z
LOCATION: Het huis van Eemnes | Noordersingel 4 Eemnes
SEQUENCE:0
STATUS:CONFIRMED
SUMMARY:Pilates voor beginners
TRANSP:OPAQUE
END:VEVENT
END:VCALENDAR
