BEGIN:VCALENDAR
PRODID:-//PUBBLE//agenda//NL
VERSION:2.0
METHOD:PUBLISH
BEGIN:VEVENT
DTSTART:20260107T120000Z
DTEND:20260629T203600Z
DTSTAMP:20260425T134341Z
UID:0e0e7a28-4cc6-467a-9c8d-cc06206dfba8
CREATED:20260425T134341Z
NAME:Stoelyoga gooiagenda.nl
X-WR-CALNAME:Stoelyoga
X-ALT-DESC;FMTTYPE=text/html:<a href='/agenda/2026/1/7/stoelyoga-360609'>/agenda/2026/1/7/stoelyoga-360609</a> || <p>Stoelyoga voor senioren door sportvereniging Keizer Otto op de maandag van 14:00-15:00 uur in SOOV (Lange Heul 32 te Bussum). Uw lenigheid, conditie of minder mobiel zijn, doet er niet toe! Na afloop wordt samen koffie/thee gedronken. Kom gratis 4 proeflessen doen. Info en/of aanmelden: 06-10874222.</p>
DESCRIPTION:<a href='/agenda/2026/1/7/stoelyoga-360609'>/agenda/2026/1/7/stoelyoga-360609</a> || <p>Stoelyoga voor senioren door sportvereniging Keizer Otto op de maandag van 14:00-15:00 uur in SOOV (Lange Heul 32 te Bussum). Uw lenigheid, conditie of minder mobiel zijn, doet er niet toe! Na afloop wordt samen koffie/thee gedronken. Kom gratis 4 proeflessen doen. Info en/of aanmelden: 06-10874222.</p>
LAST-MODIFIED:20260425T134341Z
LOCATION: SOOV | Lange Heul 32 Bussum
SEQUENCE:0
STATUS:CONFIRMED
SUMMARY:Stoelyoga
TRANSP:OPAQUE
END:VEVENT
END:VCALENDAR
