BEGIN:VCALENDAR
PRODID:-//PUBBLE//agenda//NL
VERSION:2.0
METHOD:PUBLISH
BEGIN:VEVENT
DTSTART:20260107T110000Z
DTEND:20260630T094100Z
DTSTAMP:20260425T134535Z
UID:cb943a89-3426-41a6-93ee-d09ebe0c4579
CREATED:20260425T134535Z
NAME:Stoelyoga voor senioren gooiagenda.nl
X-WR-CALNAME:Stoelyoga voor senioren
X-ALT-DESC;FMTTYPE=text/html:<a href='/agenda/2026/1/7/stoelyoga-voor-senioren-364043'>/agenda/2026/1/7/stoelyoga-voor-senioren-364043</a> || <p>Stoelyoga voor senioren door Gymnastiek- &amp; Turnvereniging Keizer Otto op de donderdag van 13:00-14:00 of van 14:00-15:00 uur. Uw lenigheid, conditie of minder mobiel zijn, doet er niet toe! Na afloop wordt samen koffie/thee gedronken. Kom gratis 4 proeflessen doen. Info en/of aanmelden: 06-10874222.</p>
DESCRIPTION:<a href='/agenda/2026/1/7/stoelyoga-voor-senioren-364043'>/agenda/2026/1/7/stoelyoga-voor-senioren-364043</a> || <p>Stoelyoga voor senioren door Gymnastiek- &amp; Turnvereniging Keizer Otto op de donderdag van 13:00-14:00 of van 14:00-15:00 uur. Uw lenigheid, conditie of minder mobiel zijn, doet er niet toe! Na afloop wordt samen koffie/thee gedronken. Kom gratis 4 proeflessen doen. Info en/of aanmelden: 06-10874222.</p>
LAST-MODIFIED:20260425T134535Z
LOCATION: SOOV | Lange Heul 32 Bussum
SEQUENCE:0
STATUS:CONFIRMED
SUMMARY:Stoelyoga voor senioren
TRANSP:OPAQUE
END:VEVENT
END:VCALENDAR
