BEGIN:VCALENDAR
PRODID:-//PUBBLE//agenda//NL
VERSION:2.0
METHOD:PUBLISH
BEGIN:VEVENT
DTSTART:20260108T173000Z
DTEND:20260615T205500Z
DTSTAMP:20260422T103019Z
UID:27c3c634-b8d1-48cd-b2f2-1fef71a08393
CREATED:20260422T103019Z
NAME:Klaverjassen gooiagenda.nl
X-WR-CALNAME:Klaverjassen
X-ALT-DESC;FMTTYPE=text/html:<a href='/agenda/2026/1/8/klaverjassen-367591'>/agenda/2026/1/8/klaverjassen-367591</a> || <p>Klaverjassen bij Sportcafé de Viersprong 2.0!</p><p>Vanaf 5 januari 2026 elke maandag klaverjassen</p><p>Huizerweg 72 Bussum</p><p>Doe mee en beleef samen gezellige avonden.</p><p>Aanmelden kan nu aan de bar of bel 035-6914497</p><p>€2,50 pp per avond 19.30 inloop start 20.00</p>
DESCRIPTION:<a href='/agenda/2026/1/8/klaverjassen-367591'>/agenda/2026/1/8/klaverjassen-367591</a> || <p>Klaverjassen bij Sportcafé de Viersprong 2.0!</p><p>Vanaf 5 januari 2026 elke maandag klaverjassen</p><p>Huizerweg 72 Bussum</p><p>Doe mee en beleef samen gezellige avonden.</p><p>Aanmelden kan nu aan de bar of bel 035-6914497</p><p>€2,50 pp per avond 19.30 inloop start 20.00</p>
LAST-MODIFIED:20260422T103019Z
LOCATION: Sportcafe de Viersprong 2.0 | Huizerweg 72 Bussum
SEQUENCE:0
STATUS:CONFIRMED
SUMMARY:Klaverjassen
TRANSP:OPAQUE
END:VEVENT
END:VCALENDAR
