BEGIN:VCALENDAR
PRODID:-//PUBBLE//agenda//NL
VERSION:2.0
METHOD:PUBLISH
BEGIN:VEVENT
DTSTART:20260109T123000Z
DTEND:20260626T104000Z
DTSTAMP:20260424T091036Z
UID:683b5504-47e8-4955-8e53-ce7f74cbb85d
CREATED:20260424T091036Z
NAME:Gezellige inloopmiddag gooiagenda.nl
X-WR-CALNAME:Gezellige inloopmiddag
X-ALT-DESC;FMTTYPE=text/html:<a href='/agenda/2026/1/9/gezellige-inloopmiddag-367749'>/agenda/2026/1/9/gezellige-inloopmiddag-367749</a> || <p>Graag nodigen we iedereen uit die behoefte heeft aan een ontspannen en gezellige middag met een hapje en een drankje. Drankjes zijn tegen gereduceerde prijzen, de hapjes zijn gratis.</p><p>De Zoutkeet is met rolstoel en rollator toegankelijk en er is een</p><p>invalide toilet aanwezig.</p><p>U bent van harte “Welkom”</p>
DESCRIPTION:<a href='/agenda/2026/1/9/gezellige-inloopmiddag-367749'>/agenda/2026/1/9/gezellige-inloopmiddag-367749</a> || <p>Graag nodigen we iedereen uit die behoefte heeft aan een ontspannen en gezellige middag met een hapje en een drankje. Drankjes zijn tegen gereduceerde prijzen, de hapjes zijn gratis.</p><p>De Zoutkeet is met rolstoel en rollator toegankelijk en er is een</p><p>invalide toilet aanwezig.</p><p>U bent van harte “Welkom”</p>
LAST-MODIFIED:20260424T091036Z
LOCATION: Wijkcentrum de Zoutkeet | Zoutmanlaan 3 Hilversum
SEQUENCE:0
STATUS:CONFIRMED
SUMMARY:Gezellige inloopmiddag
TRANSP:OPAQUE
END:VEVENT
END:VCALENDAR
