BEGIN:VCALENDAR
PRODID:-//PUBBLE//agenda//NL
VERSION:2.0
METHOD:PUBLISH
BEGIN:VEVENT
DTSTART:20260426T133000Z
DTEND:20260426T153000Z
DTSTAMP:20260425T133641Z
UID:96634925-162d-44d0-9ba0-c81296a494aa
CREATED:20260425T133641Z
NAME:Intuit Trio + Joost Buis gooiagenda.nl
X-WR-CALNAME:Intuit Trio + Joost Buis
X-ALT-DESC;FMTTYPE=text/html:<a href='/agenda/2026/4/26/intuit-trio-joost-buis-369924'>/agenda/2026/4/26/intuit-trio-joost-buis-369924</a> || <p>Intuit vertaalt nummers uit het American Songbook en ook bekende melodieën uit andere landen in levendige, avontuurlijke en pakkende jazz. Meestertrombonist Joos Buis vult in Plofhuis7 als speciale gast het trio aan. </p>
DESCRIPTION:<a href='/agenda/2026/4/26/intuit-trio-joost-buis-369924'>/agenda/2026/4/26/intuit-trio-joost-buis-369924</a> || <p>Intuit vertaalt nummers uit het American Songbook en ook bekende melodieën uit andere landen in levendige, avontuurlijke en pakkende jazz. Meestertrombonist Joos Buis vult in Plofhuis7 als speciale gast het trio aan. </p>
LAST-MODIFIED:20260425T133641Z
LOCATION: Plofhuis7 Uitermeer 5 | Uitermeer 5 Weesp
SEQUENCE:0
STATUS:CONFIRMED
SUMMARY:Intuit Trio + Joost Buis
TRANSP:OPAQUE
END:VEVENT
END:VCALENDAR
