BEGIN:VCALENDAR
PRODID:-//PUBBLE//agenda//NL
VERSION:2.0
METHOD:PUBLISH
BEGIN:VEVENT
DTSTART:20260520T180000Z
DTEND:20260520T193000Z
DTSTAMP:20260425T162810Z
UID:5a0ca6c8-a504-40d5-9230-08ff3e4fea1f
CREATED:20260425T162810Z
NAME:Een Soirée met Annie MG gooiagenda.nl
X-WR-CALNAME:Een Soirée met Annie MG
X-ALT-DESC;FMTTYPE=text/html:<a href='/agenda/2026/5/20/een-soiree-met-annie-mg-369925'>/agenda/2026/5/20/een-soiree-met-annie-mg-369925</a> || <p>Twaalf jaar lang maakte Wil van der Meer deel uit van een leesclub die iedere zaterdag een toneelstuk voorlas bij Annie M.G. Schmidt. Aan de hand van deze liedjes en verhalen brengt Wil van der Meer een intieme voorstelling &nbsp;over die bijeenkomsten.&nbsp;</p>
DESCRIPTION:<a href='/agenda/2026/5/20/een-soiree-met-annie-mg-369925'>/agenda/2026/5/20/een-soiree-met-annie-mg-369925</a> || <p>Twaalf jaar lang maakte Wil van der Meer deel uit van een leesclub die iedere zaterdag een toneelstuk voorlas bij Annie M.G. Schmidt. Aan de hand van deze liedjes en verhalen brengt Wil van der Meer een intieme voorstelling &nbsp;over die bijeenkomsten.&nbsp;</p>
LAST-MODIFIED:20260425T162810Z
LOCATION: Plofhuis7 Uitermeer 5 | Uitermeer 5 Weesp
SEQUENCE:0
STATUS:CONFIRMED
SUMMARY:Een Soirée met Annie MG
TRANSP:OPAQUE
END:VEVENT
END:VCALENDAR
