BEGIN:VCALENDAR
PRODID:-//PUBBLE//agenda//NL
VERSION:2.0
METHOD:PUBLISH
BEGIN:VEVENT
DTSTART:20260531T133000Z
DTEND:20260531T153000Z
DTSTAMP:20260425T162704Z
UID:02bb9182-c517-4ec4-8f30-fea1f6b87e0a
CREATED:20260425T162704Z
NAME:Joris Teepe duo/trio/kwart gooiagenda.nl
X-WR-CALNAME:Joris Teepe duo/trio/kwart
X-ALT-DESC;FMTTYPE=text/html:<a href='/agenda/2026/5/31/joris-teepe-duo-trio-kwart-369926'>/agenda/2026/5/31/joris-teepe-duo-trio-kwart-369926</a> || <p>Bassist Joris Teepe en drummer Steve Altenberg spelen met stersaxofonist Don Braden in het Trio of Liberty. Hun muziek gaat over schoonheid, vrijheid en energie door samenspel en swing! </p>
DESCRIPTION:<a href='/agenda/2026/5/31/joris-teepe-duo-trio-kwart-369926'>/agenda/2026/5/31/joris-teepe-duo-trio-kwart-369926</a> || <p>Bassist Joris Teepe en drummer Steve Altenberg spelen met stersaxofonist Don Braden in het Trio of Liberty. Hun muziek gaat over schoonheid, vrijheid en energie door samenspel en swing! </p>
LAST-MODIFIED:20260425T162704Z
LOCATION: Plofhuis7 Uitermeer 5 | Uitermeer 5 Weesp
SEQUENCE:0
STATUS:CONFIRMED
SUMMARY:Joris Teepe duo/trio/kwart
TRANSP:OPAQUE
END:VEVENT
END:VCALENDAR
