BEGIN:VCALENDAR
PRODID:-//PUBBLE//agenda//NL
VERSION:2.0
METHOD:PUBLISH
BEGIN:VEVENT
DTSTART:20260304T173000Z
DTEND:20260511T190500Z
DTSTAMP:20260422T115717Z
UID:7454a119-d6e3-4739-971d-2cffcb6d79d8
CREATED:20260422T115717Z
NAME:Diverse leuke workhops gooiagenda.nl
X-WR-CALNAME:Diverse leuke workhops
X-ALT-DESC;FMTTYPE=text/html:<a href='/agenda/2026/3/4/diverse-leuke-workhops-370049'>/agenda/2026/3/4/diverse-leuke-workhops-370049</a> || <p>Leuke workshops in maart en april bij de Kreatieve Groep Weesp, ook voor niet leden! Koken met Ilona (Modern midden-oosten, Italiaans, klassiekers en voorjaarsfavorieten), &nbsp;Schilderen, collage &amp; compositie, Mozaieken, Armbanden maken.</p>
DESCRIPTION:<a href='/agenda/2026/3/4/diverse-leuke-workhops-370049'>/agenda/2026/3/4/diverse-leuke-workhops-370049</a> || <p>Leuke workshops in maart en april bij de Kreatieve Groep Weesp, ook voor niet leden! Koken met Ilona (Modern midden-oosten, Italiaans, klassiekers en voorjaarsfavorieten), &nbsp;Schilderen, collage &amp; compositie, Mozaieken, Armbanden maken.</p>
LAST-MODIFIED:20260422T115717Z
LOCATION: Fort Ossenmark, Kreatieve Groep Weesp | Ossenmarkt 44 Weesp
SEQUENCE:0
STATUS:CONFIRMED
SUMMARY:Diverse leuke workhops
TRANSP:OPAQUE
END:VEVENT
END:VCALENDAR
