BEGIN:VCALENDAR
PRODID:-//PUBBLE//agenda//NL
VERSION:2.0
METHOD:PUBLISH
BEGIN:VEVENT
DTSTART:20260311T080000Z
DTEND:20270310T090800Z
DTSTAMP:20260424T162215Z
UID:4598fc7a-bd64-4eb0-bcc8-54efefb6a06f
CREATED:20260424T162215Z
NAME:Op Verhaal Komen gooiagenda.nl
X-WR-CALNAME:Op Verhaal Komen
X-ALT-DESC;FMTTYPE=text/html:<a href='/agenda/2026/3/11/op-verhaal-komen-370769'>/agenda/2026/3/11/op-verhaal-komen-370769</a> || <p>De Brug Huizen</p>
DESCRIPTION:<a href='/agenda/2026/3/11/op-verhaal-komen-370769'>/agenda/2026/3/11/op-verhaal-komen-370769</a> || <p>De Brug Huizen</p>
LAST-MODIFIED:20260424T162215Z
LOCATION: Ichthuskerk | Kortenaerstraat 5 Huizen
SEQUENCE:0
STATUS:CONFIRMED
SUMMARY:Op Verhaal Komen
TRANSP:OPAQUE
END:VEVENT
END:VCALENDAR
