BEGIN:VCALENDAR
PRODID:-//PUBBLE//agenda//NL
VERSION:2.0
METHOD:PUBLISH
BEGIN:VEVENT
DTSTART:20260306T180000Z
DTEND:20260627T113100Z
DTSTAMP:20260422T163425Z
UID:9f01b3be-d691-48a8-b269-6e4bf8476f2e
CREATED:20260422T163425Z
NAME:KLUSKLOOSTER Ma.Di.Do. 20u gooiagenda.nl
X-WR-CALNAME:KLUSKLOOSTER Ma.Di.Do. 20u
X-ALT-DESC;FMTTYPE=text/html:<a href='/agenda/2026/3/6/klusklooster-ma-di-do-20u-370872'>/agenda/2026/3/6/klusklooster-ma-di-do-20u-370872</a> || <p><strong>Kom naar het KlusKlooster!&nbsp;</strong></p><p>Het KlusKlooster is een open plek waar je samen klus- en reparatiewerkzaamheden uitvoert aan bijvoorbeeld huishoudelijke apparatuur, je fiets, auto of een ander creatief project.&nbsp;</p><p>Onze filosofie is: vraag wat je nodig hebt, deel wat je over hebt.</p><p>www.klusklooster.nl</p>
DESCRIPTION:<a href='/agenda/2026/3/6/klusklooster-ma-di-do-20u-370872'>/agenda/2026/3/6/klusklooster-ma-di-do-20u-370872</a> || <p><strong>Kom naar het KlusKlooster!&nbsp;</strong></p><p>Het KlusKlooster is een open plek waar je samen klus- en reparatiewerkzaamheden uitvoert aan bijvoorbeeld huishoudelijke apparatuur, je fiets, auto of een ander creatief project.&nbsp;</p><p>Onze filosofie is: vraag wat je nodig hebt, deel wat je over hebt.</p><p>www.klusklooster.nl</p>
LAST-MODIFIED:20260422T163425Z
LOCATION: Het Klusklooster | Korte Noorderweg 36 Hilversum
SEQUENCE:0
STATUS:CONFIRMED
SUMMARY:KLUSKLOOSTER Ma.Di.Do. 20u
TRANSP:OPAQUE
END:VEVENT
END:VCALENDAR
