BEGIN:VCALENDAR
PRODID:-//PUBBLE//agenda//NL
VERSION:2.0
METHOD:PUBLISH
BEGIN:VEVENT
DTSTART:20260310T110000Z
DTEND:20261215T065100Z
DTSTAMP:20260425T161807Z
UID:3189f227-4b54-412b-8149-99baa7d8b55f
CREATED:20260425T161807Z
NAME:Bingo / Creatieve middag gooiagenda.nl
X-WR-CALNAME:Bingo / Creatieve middag
X-ALT-DESC;FMTTYPE=text/html:<a href='/agenda/2026/3/10/bingo-creatieve-middag-371006'>/agenda/2026/3/10/bingo-creatieve-middag-371006</a> || <p>In de even weken houden we een gezellige bingomiddag met leuke prijzen. Eigen bijdrage is € 4,00.</p><p>In de oneven weken kun je creatief bezig zijn. Eigen bijdrage afhankelijk van wat er gemaakt wordt, maar altijd voor iedereen betaalbaar!</p>
DESCRIPTION:<a href='/agenda/2026/3/10/bingo-creatieve-middag-371006'>/agenda/2026/3/10/bingo-creatieve-middag-371006</a> || <p>In de even weken houden we een gezellige bingomiddag met leuke prijzen. Eigen bijdrage is € 4,00.</p><p>In de oneven weken kun je creatief bezig zijn. Eigen bijdrage afhankelijk van wat er gemaakt wordt, maar altijd voor iedereen betaalbaar!</p>
LAST-MODIFIED:20260425T161807Z
LOCATION: Huiskamer van de Buurt Leger des Heils | Bussummerstraat 27a/b Hilversum
SEQUENCE:0
STATUS:CONFIRMED
SUMMARY:Bingo / Creatieve middag
TRANSP:OPAQUE
END:VEVENT
END:VCALENDAR
