BEGIN:VCALENDAR
PRODID:-//PUBBLE//agenda//NL
VERSION:2.0
METHOD:PUBLISH
BEGIN:VEVENT
DTSTART:20260311T100000Z
DTEND:20261223T070200Z
DTSTAMP:20260425T134454Z
UID:8252b664-03b5-4bbe-bcb5-8f6ed21c8227
CREATED:20260425T134454Z
NAME:Lunch gooiagenda.nl
X-WR-CALNAME:Lunch
X-ALT-DESC;FMTTYPE=text/html:<a href='/agenda/2026/3/11/lunch-371008'>/agenda/2026/3/11/lunch-371008</a> || <p>Iedere werkdag kun je voor €1 tot €2,50 komen lunchen in onze buurthuiskamer. Op vrijdag is er een Oekraiense maaltijd voor € 5,--. Je bent meer dan welkom!</p>
DESCRIPTION:<a href='/agenda/2026/3/11/lunch-371008'>/agenda/2026/3/11/lunch-371008</a> || <p>Iedere werkdag kun je voor €1 tot €2,50 komen lunchen in onze buurthuiskamer. Op vrijdag is er een Oekraiense maaltijd voor € 5,--. Je bent meer dan welkom!</p>
LAST-MODIFIED:20260425T134454Z
LOCATION: Huiskamer van de Buurt Leger des Heils | Bussummerstraat 27a/b Hilversum
SEQUENCE:0
STATUS:CONFIRMED
SUMMARY:Lunch
TRANSP:OPAQUE
END:VEVENT
END:VCALENDAR
