BEGIN:VCALENDAR
PRODID:-//PUBBLE//agenda//NL
VERSION:2.0
METHOD:PUBLISH
BEGIN:VEVENT
DTSTART:20260310T080000Z
DTEND:20261231T070900Z
DTSTAMP:20260425T133435Z
UID:703241d4-7286-4f2d-bcb3-08ab8eca8be3
CREATED:20260425T133435Z
NAME:Geloofsontmoeting gooiagenda.nl
X-WR-CALNAME:Geloofsontmoeting
X-ALT-DESC;FMTTYPE=text/html:<a href='/agenda/2026/3/10/geloofsontmoeting-371009'>/agenda/2026/3/10/geloofsontmoeting-371009</a> || <p>Iedere zondag is er de gelegenheid om elkaar en God te ontmoeten, om met elkaar te zingen, te danken en te bidden. Wij zijn een laagdrempelige geloofsgemeenschap waar iedereen welkom is.</p>
DESCRIPTION:<a href='/agenda/2026/3/10/geloofsontmoeting-371009'>/agenda/2026/3/10/geloofsontmoeting-371009</a> || <p>Iedere zondag is er de gelegenheid om elkaar en God te ontmoeten, om met elkaar te zingen, te danken en te bidden. Wij zijn een laagdrempelige geloofsgemeenschap waar iedereen welkom is.</p>
LAST-MODIFIED:20260425T133435Z
LOCATION: Huiskamer van de Buurt Leger des Heils | Bussumerstraat 27 Hilversum
SEQUENCE:0
STATUS:CONFIRMED
SUMMARY:Geloofsontmoeting
TRANSP:OPAQUE
END:VEVENT
END:VCALENDAR
