BEGIN:VCALENDAR
PRODID:-//PUBBLE//agenda//NL
VERSION:2.0
METHOD:PUBLISH
BEGIN:VEVENT
DTSTART:20260310T080000Z
DTEND:20261210T071600Z
DTSTAMP:20260425T133910Z
UID:3dd13650-56b7-4375-b5ae-aa5a8d588296
CREATED:20260425T133910Z
NAME:Open Huis gooiagenda.nl
X-WR-CALNAME:Open Huis
X-ALT-DESC;FMTTYPE=text/html:<a href='/agenda/2026/3/10/open-huis-371010'>/agenda/2026/3/10/open-huis-371010</a> || <p>Iedere werkdag kun je binnenlopen voor een kop koffie, een goed gesprek en een heleboel gezelligheid. Je bent meer dan welkom. Wij zijn er voor iedereen!</p>
DESCRIPTION:<a href='/agenda/2026/3/10/open-huis-371010'>/agenda/2026/3/10/open-huis-371010</a> || <p>Iedere werkdag kun je binnenlopen voor een kop koffie, een goed gesprek en een heleboel gezelligheid. Je bent meer dan welkom. Wij zijn er voor iedereen!</p>
LAST-MODIFIED:20260425T133910Z
LOCATION: Huiskamer van de Buurt Leger des Heils | Bussumerstraat 27 Hilversum
SEQUENCE:0
STATUS:CONFIRMED
SUMMARY:Open Huis
TRANSP:OPAQUE
END:VEVENT
END:VCALENDAR
