BEGIN:VCALENDAR
PRODID:-//PUBBLE//agenda//NL
VERSION:2.0
METHOD:PUBLISH
BEGIN:VEVENT
DTSTART:20260310T140000Z
DTEND:20261210T072000Z
DTSTAMP:20260425T161807Z
UID:ff23119c-42de-4fd0-b77a-853bf478e69e
CREATED:20260425T161807Z
NAME:Daklozeninloop gooiagenda.nl
X-WR-CALNAME:Daklozeninloop
X-ALT-DESC;FMTTYPE=text/html:<a href='/agenda/2026/3/10/daklozeninloop-371011'>/agenda/2026/3/10/daklozeninloop-371011</a> || <p>Ben je dakloos? Of ken je iemand die dakloos is of op andere wijze hulp nodig heeft? Loop binnen of bel met 06-13062672. In onze buurthuiskamer is koffie, een maaltijd en gelegenheid om te douchen en om schone kleren te krijgen.&nbsp;</p>
DESCRIPTION:<a href='/agenda/2026/3/10/daklozeninloop-371011'>/agenda/2026/3/10/daklozeninloop-371011</a> || <p>Ben je dakloos? Of ken je iemand die dakloos is of op andere wijze hulp nodig heeft? Loop binnen of bel met 06-13062672. In onze buurthuiskamer is koffie, een maaltijd en gelegenheid om te douchen en om schone kleren te krijgen.&nbsp;</p>
LAST-MODIFIED:20260425T161807Z
LOCATION: Huiskamer van de Buurt Leger des Heils | Bussumerstraat 27 Hilversum
SEQUENCE:0
STATUS:CONFIRMED
SUMMARY:Daklozeninloop
TRANSP:OPAQUE
END:VEVENT
END:VCALENDAR
