BEGIN:VCALENDAR
PRODID:-//PUBBLE//agenda//NL
VERSION:2.0
METHOD:PUBLISH
BEGIN:VEVENT
DTSTART:20260421T083000Z
DTEND:20260421T123000Z
DTSTAMP:20260422T142933Z
UID:a5b091b6-6e69-4c6a-b4dc-1d5492439cf5
CREATED:20260422T142933Z
NAME:Hans Böhm over Jan Timman gooiagenda.nl
X-WR-CALNAME:Hans Böhm over Jan Timman
X-ALT-DESC;FMTTYPE=text/html:<a href='/agenda/2026/4/21/hans-bohm-over-jan-timman-372348'>/agenda/2026/4/21/hans-bohm-over-jan-timman-372348</a> || <p>Lezing van Hilversummer Hans Böhm over de onlangs overleden supergrootmeester Jan Timman. Timman stond bekend als Best of the West in het tijdperk Karpov en Kasparov en was een befaamd partijanalist en schaakstudie-componist. Hans Böhm zal ook ingaan op de vraag of Hilversum ‘Schaakstad’ is.</p>
DESCRIPTION:<a href='/agenda/2026/4/21/hans-bohm-over-jan-timman-372348'>/agenda/2026/4/21/hans-bohm-over-jan-timman-372348</a> || <p>Lezing van Hilversummer Hans Böhm over de onlangs overleden supergrootmeester Jan Timman. Timman stond bekend als Best of the West in het tijdperk Karpov en Kasparov en was een befaamd partijanalist en schaakstudie-componist. Hans Böhm zal ook ingaan op de vraag of Hilversum ‘Schaakstad’ is.</p>
LAST-MODIFIED:20260422T142933Z
LOCATION: Bibliotheek Hilversum | 's-Gravelandseweg 55 Hilversum
SEQUENCE:0
STATUS:CONFIRMED
SUMMARY:Hans Böhm over Jan Timman
TRANSP:OPAQUE
END:VEVENT
END:VCALENDAR
