BEGIN:VCALENDAR
PRODID:-//PUBBLE//agenda//NL
VERSION:2.0
METHOD:PUBLISH
BEGIN:VEVENT
DTSTART:20260425T083000Z
DTEND:20260503T150000Z
DTSTAMP:20260424T091328Z
UID:2fb97ccf-1977-4840-929d-a536fae5b86d
CREATED:20260424T091328Z
NAME:Meivakantie + PampusLab gooiagenda.nl
X-WR-CALNAME:Meivakantie + PampusLab
X-ALT-DESC;FMTTYPE=text/html:<a href='/agenda/2026/4/25/meivakantie-pampuslab-372416'>/agenda/2026/4/25/meivakantie-pampuslab-372416</a> || <p>Kom naar Forteiland Pampus en beleef een avontuurlijke eilanddag met het gezin. Ontdek het fort, ga op speurtocht en doe mee aan extra kinderactiviteiten, waaronder het PampusLab, waar kinderen spelenderwijs ontdekken hoe Pampus als zelfredzaam eiland werkt.</p>
DESCRIPTION:<a href='/agenda/2026/4/25/meivakantie-pampuslab-372416'>/agenda/2026/4/25/meivakantie-pampuslab-372416</a> || <p>Kom naar Forteiland Pampus en beleef een avontuurlijke eilanddag met het gezin. Ontdek het fort, ga op speurtocht en doe mee aan extra kinderactiviteiten, waaronder het PampusLab, waar kinderen spelenderwijs ontdekken hoe Pampus als zelfredzaam eiland werkt.</p>
LAST-MODIFIED:20260424T091328Z
LOCATION: Forteiland Pampus | Fortwoning Pampus 1 Muiden
SEQUENCE:0
STATUS:CONFIRMED
SUMMARY:Meivakantie + PampusLab
TRANSP:OPAQUE
END:VEVENT
END:VCALENDAR
