BEGIN:VCALENDAR
PRODID:-//PUBBLE//agenda//NL
VERSION:2.0
METHOD:PUBLISH
BEGIN:VEVENT
DTSTART:20260421T173000Z
DTEND:20260521T190000Z
DTSTAMP:20260421T133743Z
UID:3ad17b67-8be6-40a7-b24e-101e46e892f5
CREATED:20260421T133743Z
NAME:Engelse Leesvaardigheid gooiagenda.nl
X-WR-CALNAME:Engelse Leesvaardigheid
X-ALT-DESC;FMTTYPE=text/html:<a href='/agenda/2026/4/21/engelse-leesvaardigheid-372441'>/agenda/2026/4/21/engelse-leesvaardigheid-372441</a> || <p>Masterclass Engelse Leesvaardigheid: Denk als een Examenontwikkelaar</p><p>Masterclass Engelse Leesvaardigheid door Madeleine Bletterman. Stop met gokken en voorkom ‘zeperds’. 21 April 19:30 uur € 12.50. Meld je aan!.</p>
DESCRIPTION:<a href='/agenda/2026/4/21/engelse-leesvaardigheid-372441'>/agenda/2026/4/21/engelse-leesvaardigheid-372441</a> || <p>Masterclass Engelse Leesvaardigheid: Denk als een Examenontwikkelaar</p><p>Masterclass Engelse Leesvaardigheid door Madeleine Bletterman. Stop met gokken en voorkom ‘zeperds’. 21 April 19:30 uur € 12.50. Meld je aan!.</p>
LAST-MODIFIED:20260421T133743Z
LOCATION: Brinkhuis | Brink 29 Laren
SEQUENCE:0
STATUS:CONFIRMED
SUMMARY:Engelse Leesvaardigheid
TRANSP:OPAQUE
END:VEVENT
END:VCALENDAR
