BEGIN:VCALENDAR
PRODID:-//PUBBLE//agenda//NL
VERSION:2.0
METHOD:PUBLISH
BEGIN:VEVENT
DTSTART:20260424T180000Z
DTEND:20260524T193000Z
DTSTAMP:20260424T091444Z
UID:ea04936b-eeba-44ea-a9ec-043a715b118a
CREATED:20260424T091444Z
NAME:Durf te botsen! gooiagenda.nl
X-WR-CALNAME:Durf te botsen!
X-ALT-DESC;FMTTYPE=text/html:<a href='/agenda/2026/4/24/durf-te-botsen--372498'>/agenda/2026/4/24/durf-te-botsen--372498</a> || <p>Pas je je aan, of blijf je jezelf? Voor goede verbindingen is het nodig om jezelf niet te veel aan te passen. En daarmee dus het risico te nemen om te botsen. Hoe ga je daarmee om? Een gezellige avond met laagdrempelige oefeningen en boeiende gesprekken!</p>
DESCRIPTION:<a href='/agenda/2026/4/24/durf-te-botsen--372498'>/agenda/2026/4/24/durf-te-botsen--372498</a> || <p>Pas je je aan, of blijf je jezelf? Voor goede verbindingen is het nodig om jezelf niet te veel aan te passen. En daarmee dus het risico te nemen om te botsen. Hoe ga je daarmee om? Een gezellige avond met laagdrempelige oefeningen en boeiende gesprekken!</p>
LAST-MODIFIED:20260424T091444Z
LOCATION: Gebouw De Vereniging | Oude Enghweg 19 Hilversum
SEQUENCE:0
STATUS:CONFIRMED
SUMMARY:Durf te botsen!
TRANSP:OPAQUE
END:VEVENT
END:VCALENDAR
