BEGIN:VCALENDAR
PRODID:-//PUBBLE//agenda//NL
VERSION:2.0
METHOD:PUBLISH
BEGIN:VEVENT
DTSTART:20260420T170000Z
DTEND:20260420T183000Z
DTSTAMP:20260420T123119Z
UID:66274279-2ab4-44bc-9b24-c2e32d14425b
CREATED:20260420T123119Z
NAME:Smartphone op orde gooiagenda.nl
X-WR-CALNAME:Smartphone op orde
X-ALT-DESC;FMTTYPE=text/html:<a href='/agenda/2026/4/20/smartphone-op-orde-372507'>/agenda/2026/4/20/smartphone-op-orde-372507</a> || <p>Workshop. Leer je apps logisch te sorteren, foto’s netjes in mappen te zetten en bestanden te verwijderen om ruimte vrij te maken. &nbsp;Aanmelden: www.bibliotheekgooiplus.nl </p>
DESCRIPTION:<a href='/agenda/2026/4/20/smartphone-op-orde-372507'>/agenda/2026/4/20/smartphone-op-orde-372507</a> || <p>Workshop. Leer je apps logisch te sorteren, foto’s netjes in mappen te zetten en bestanden te verwijderen om ruimte vrij te maken. &nbsp;Aanmelden: www.bibliotheekgooiplus.nl </p>
LAST-MODIFIED:20260420T123119Z
LOCATION: Bibliotheek Gooi + Laren | Brink 29 Laren
SEQUENCE:0
STATUS:CONFIRMED
SUMMARY:Smartphone op orde
TRANSP:OPAQUE
END:VEVENT
END:VCALENDAR
