BEGIN:VCALENDAR
PRODID:-//PUBBLE//agenda//NL
VERSION:2.0
METHOD:PUBLISH
BEGIN:VEVENT
DTSTART:20260421T080000Z
DTEND:20260421T100000Z
DTSTAMP:20260420T123609Z
UID:06b7c04c-72b7-4d0a-afe1-068980c2408e
CREATED:20260420T123609Z
NAME:Smakelijke kunst gooiagenda.nl
X-WR-CALNAME:Smakelijke kunst
X-ALT-DESC;FMTTYPE=text/html:<a href='/agenda/2026/4/21/smakelijke-kunst-372508'>/agenda/2026/4/21/smakelijke-kunst-372508</a> || <p>Lezing over eetlust opwekkende kunst: van 17e-eeuwse stillevens tot moderne werken. Diana Kostman toont voorbeelden en duidt de rol en betekenis van voedsel in kunst.</p>
DESCRIPTION:<a href='/agenda/2026/4/21/smakelijke-kunst-372508'>/agenda/2026/4/21/smakelijke-kunst-372508</a> || <p>Lezing over eetlust opwekkende kunst: van 17e-eeuwse stillevens tot moderne werken. Diana Kostman toont voorbeelden en duidt de rol en betekenis van voedsel in kunst.</p>
LAST-MODIFIED:20260420T123609Z
LOCATION: Bibliotheek Gooi+ Naarden | Majoor Kampsstraat  3 Naarden
SEQUENCE:0
STATUS:CONFIRMED
SUMMARY:Smakelijke kunst
TRANSP:OPAQUE
END:VEVENT
END:VCALENDAR
