BEGIN:VCALENDAR
PRODID:-//PUBBLE//agenda//NL
VERSION:2.0
METHOD:PUBLISH
BEGIN:VEVENT
DTSTART:20260422T080000Z
DTEND:20260422T100000Z
DTSTAMP:20260422T120057Z
UID:ddece93b-025f-407a-9508-2e6fa05bbda1
CREATED:20260422T120057Z
NAME:ChatGPT en andere AI-tools gooiagenda.nl
X-WR-CALNAME:ChatGPT en andere AI-tools
X-ALT-DESC;FMTTYPE=text/html:<a href='/agenda/2026/4/22/chatgpt-en-andere-ai-tools-372509'>/agenda/2026/4/22/chatgpt-en-andere-ai-tools-372509</a> || <p>Ontdek de mogelijkheden en beperkingen van populaire AI-tools, zoals ChatGPT. Leer hoe je ze effectief gebruikt kunt maken van AI en ga direct thuis aan de slag. Aanmelden: www.bibliotheekgooiplus.nl</p>
DESCRIPTION:<a href='/agenda/2026/4/22/chatgpt-en-andere-ai-tools-372509'>/agenda/2026/4/22/chatgpt-en-andere-ai-tools-372509</a> || <p>Ontdek de mogelijkheden en beperkingen van populaire AI-tools, zoals ChatGPT. Leer hoe je ze effectief gebruikt kunt maken van AI en ga direct thuis aan de slag. Aanmelden: www.bibliotheekgooiplus.nl</p>
LAST-MODIFIED:20260422T120057Z
LOCATION: Bibliotheek Gooi + Muiden | Kazernestraat 10 Muiden
SEQUENCE:0
STATUS:CONFIRMED
SUMMARY:ChatGPT en andere AI-tools
TRANSP:OPAQUE
END:VEVENT
END:VCALENDAR
