BEGIN:VCALENDAR
PRODID:-//PUBBLE//agenda//NL
VERSION:2.0
METHOD:PUBLISH
BEGIN:VEVENT
DTSTART:20260423T100000Z
DTEND:20260423T150000Z
DTSTAMP:20260423T053438Z
UID:754fe0dd-0be9-41b3-be5a-2cc4cea93d25
CREATED:20260423T053438Z
NAME:Opendag voor vrijwilligers gooiagenda.nl
X-WR-CALNAME:Opendag voor vrijwilligers
X-ALT-DESC;FMTTYPE=text/html:<a href='/agenda/2026/4/23/opendag-voor-vrijwilligers-372556'>/agenda/2026/4/23/opendag-voor-vrijwilligers-372556</a> || <p>Het Comenius Museum zoekt Museumhelden! Kom naar de open dag en ontdek of vrijwilligerswerk in het museum iets voor je is. Toegang is gratis. Meer informatie over het programma op www.comeniusmuseum.nl</p>
DESCRIPTION:<a href='/agenda/2026/4/23/opendag-voor-vrijwilligers-372556'>/agenda/2026/4/23/opendag-voor-vrijwilligers-372556</a> || <p>Het Comenius Museum zoekt Museumhelden! Kom naar de open dag en ontdek of vrijwilligerswerk in het museum iets voor je is. Toegang is gratis. Meer informatie over het programma op www.comeniusmuseum.nl</p>
LAST-MODIFIED:20260423T053438Z
LOCATION: Comenius Museum Naarden | Kloosterstraat 33 Naarden
SEQUENCE:0
STATUS:CONFIRMED
SUMMARY:Opendag voor vrijwilligers
TRANSP:OPAQUE
END:VEVENT
END:VCALENDAR
