BEGIN:VCALENDAR
PRODID:-//PUBBLE//agenda//NL
VERSION:2.0
METHOD:PUBLISH
BEGIN:VEVENT
DTSTART:20260420T173000Z
DTEND:20260420T183000Z
DTSTAMP:20260420T124339Z
UID:2b79992a-b218-4539-b12a-fcf33b24274f
CREATED:20260420T124339Z
NAME:Salderen kun je afleren gooiagenda.nl
X-WR-CALNAME:Salderen kun je afleren
X-ALT-DESC;FMTTYPE=text/html:<a href='/agenda/2026/4/20/salderen-kun-je-afleren-372582'>/agenda/2026/4/20/salderen-kun-je-afleren-372582</a> || <p>Op 1 januari 2027 stopt de salderingsregeling. Ontdek tijdens deze informatieavond van HilverZon hoe je meer eigen energie uit je zonnepanelen haalt, en welke rol slimme apparaten of een thuisbatterij kunnen spelen. Voor iedereen in Hilversum met of zonder zonnepanelen.</p>
DESCRIPTION:<a href='/agenda/2026/4/20/salderen-kun-je-afleren-372582'>/agenda/2026/4/20/salderen-kun-je-afleren-372582</a> || <p>Op 1 januari 2027 stopt de salderingsregeling. Ontdek tijdens deze informatieavond van HilverZon hoe je meer eigen energie uit je zonnepanelen haalt, en welke rol slimme apparaten of een thuisbatterij kunnen spelen. Voor iedereen in Hilversum met of zonder zonnepanelen.</p>
LAST-MODIFIED:20260420T124339Z
LOCATION: Bibliotheek Hilversum | 's-Gravelandseweg 55 Hilversum
SEQUENCE:0
STATUS:CONFIRMED
SUMMARY:Salderen kun je afleren
TRANSP:OPAQUE
END:VEVENT
END:VCALENDAR
