BEGIN:VCALENDAR
PRODID:-//PUBBLE//agenda//NL
VERSION:2.0
METHOD:PUBLISH
BEGIN:VEVENT
DTSTART:20260426T113000Z
DTEND:20260426T140000Z
DTSTAMP:20260425T134735Z
UID:02160af1-68bc-4aa4-865c-e9065a6d5801
CREATED:20260425T134735Z
NAME:Fietsexcursie gooiagenda.nl
X-WR-CALNAME:Fietsexcursie
X-ALT-DESC;FMTTYPE=text/html:<a href='/agenda/2026/4/26/fietsexcursie-372630'>/agenda/2026/4/26/fietsexcursie-372630</a> || <p>Fietsexcursie met gids langs aardkundige en archeologische plaatsen. Museumbezoek inbegrepen. Opgeven bij C. Goubitz (goubitz@museumhofland.nl) of 035-6834232. Info: www.museumhofland.nl</p>
DESCRIPTION:<a href='/agenda/2026/4/26/fietsexcursie-372630'>/agenda/2026/4/26/fietsexcursie-372630</a> || <p>Fietsexcursie met gids langs aardkundige en archeologische plaatsen. Museumbezoek inbegrepen. Opgeven bij C. Goubitz (goubitz@museumhofland.nl) of 035-6834232. Info: www.museumhofland.nl</p>
LAST-MODIFIED:20260425T134735Z
LOCATION: Museum Hofland Laren | Hilversumseweg 51 Laren
SEQUENCE:0
STATUS:CONFIRMED
SUMMARY:Fietsexcursie
TRANSP:OPAQUE
END:VEVENT
END:VCALENDAR
