BEGIN:VCALENDAR
PRODID:-//PUBBLE//agenda//NL
VERSION:2.0
METHOD:PUBLISH
BEGIN:VEVENT
DTSTART:20260420T173000Z
DTEND:20260420T200000Z
DTSTAMP:20260422T102930Z
UID:10527d93-2ee5-481f-8022-d35c161822a0
CREATED:20260422T102930Z
NAME:Autismesoos Hilversum gooiagenda.nl
X-WR-CALNAME:Autismesoos Hilversum
X-ALT-DESC;FMTTYPE=text/html:<a href='/agenda/2026/4/20/autismesoos-hilversum-372655'>/agenda/2026/4/20/autismesoos-hilversum-372655</a> || <p>Autismesoos Hilversum is een ontmoetingsplek voor volwassenen met autisme. Toegang is gratis. De soos is elke 4e maandagavond van de maand in wijkcentrum de Geus van 19.30 - 22.00 uur. Let op: in april en mei op de 3e maandag ivm feestdagen.</p><p>Meer informatie: www.autismesoos.nl</p>
DESCRIPTION:<a href='/agenda/2026/4/20/autismesoos-hilversum-372655'>/agenda/2026/4/20/autismesoos-hilversum-372655</a> || <p>Autismesoos Hilversum is een ontmoetingsplek voor volwassenen met autisme. Toegang is gratis. De soos is elke 4e maandagavond van de maand in wijkcentrum de Geus van 19.30 - 22.00 uur. Let op: in april en mei op de 3e maandag ivm feestdagen.</p><p>Meer informatie: www.autismesoos.nl</p>
LAST-MODIFIED:20260422T102930Z
LOCATION: Wijkcentrum De Geus | Geuzenweg 84 Hilversum
SEQUENCE:0
STATUS:CONFIRMED
SUMMARY:Autismesoos Hilversum
TRANSP:OPAQUE
END:VEVENT
END:VCALENDAR
