BEGIN:VCALENDAR
PRODID:-//PUBBLE//agenda//NL
VERSION:2.0
METHOD:PUBLISH
BEGIN:VEVENT
DTSTART:20260424T180000Z
DTEND:20260424T203000Z
DTSTAMP:20260424T091259Z
UID:5211b52e-6c3b-404b-8df8-c2f7743061a3
CREATED:20260424T091259Z
NAME:Lezing Sailors for Sustain gooiagenda.nl
X-WR-CALNAME:Lezing Sailors for Sustain
X-ALT-DESC;FMTTYPE=text/html:<a href='/agenda/2026/4/24/lezing-sailors-for-sustain-372668'>/agenda/2026/4/24/lezing-sailors-for-sustain-372668</a> || <p>Floris van Hees en Ivar Smits zijn twee Nederlanders met een liefde voor de natuur en een passie voor reizen.In 2016 zijn zij met hun zeilboot Lucipara 2 vertrokken om de wereld rond te zeilen, op zoek naar duurzame oplossingen die ook in de praktijk werken.</p>
DESCRIPTION:<a href='/agenda/2026/4/24/lezing-sailors-for-sustain-372668'>/agenda/2026/4/24/lezing-sailors-for-sustain-372668</a> || <p>Floris van Hees en Ivar Smits zijn twee Nederlanders met een liefde voor de natuur en een passie voor reizen.In 2016 zijn zij met hun zeilboot Lucipara 2 vertrokken om de wereld rond te zeilen, op zoek naar duurzame oplossingen die ook in de praktijk werken.</p>
LAST-MODIFIED:20260424T091259Z
LOCATION: clubhuis van watersport vereniging AVOH | Energieweg 5 Huizen
SEQUENCE:0
STATUS:CONFIRMED
SUMMARY:Lezing Sailors for Sustain
TRANSP:OPAQUE
END:VEVENT
END:VCALENDAR
