BEGIN:VCALENDAR
PRODID:-//PUBBLE//agenda//NL
VERSION:2.0
METHOD:PUBLISH
BEGIN:VEVENT
DTSTART:20260425T084500Z
DTEND:20260425T100000Z
DTSTAMP:20260424T090903Z
UID:d858f7e7-ba33-4e26-8813-2d314bfa2a1a
CREATED:20260424T090903Z
NAME:Open Podium gooiagenda.nl
X-WR-CALNAME:Open Podium
X-ALT-DESC;FMTTYPE=text/html:<a href='/agenda/2026/4/25/open-podium-372730'>/agenda/2026/4/25/open-podium-372730</a> || <p>Schrijvers en dichters uit Huizen en omgeving hebben elke laatste zaterdagochtend van de maand een podium tot hun beschikking. Ervaren én beginnende auteurs kunnen voordragen uit eigen werk bij het Open Podium. Aanmelden: Openpodiumhuizen@gmail.com</p>
DESCRIPTION:<a href='/agenda/2026/4/25/open-podium-372730'>/agenda/2026/4/25/open-podium-372730</a> || <p>Schrijvers en dichters uit Huizen en omgeving hebben elke laatste zaterdagochtend van de maand een podium tot hun beschikking. Ervaren én beginnende auteurs kunnen voordragen uit eigen werk bij het Open Podium. Aanmelden: Openpodiumhuizen@gmail.com</p>
LAST-MODIFIED:20260424T090903Z
LOCATION: Bibliotheek Gooi+ Huizen | Plein 2000 1 Huizen
SEQUENCE:0
STATUS:CONFIRMED
SUMMARY:Open Podium
TRANSP:OPAQUE
END:VEVENT
END:VCALENDAR
