BEGIN:VCALENDAR
PRODID:-//PUBBLE//agenda//NL
VERSION:2.0
METHOD:PUBLISH
BEGIN:VEVENT
DTSTART:20260425T081100Z
DTEND:20260425T091100Z
DTSTAMP:20260424T091150Z
UID:9ba163dc-cb02-4bb6-baa7-6b896b69f65b
CREATED:20260424T091150Z
NAME:Kringloopwinkel Servitas gooiagenda.nl
X-WR-CALNAME:Kringloopwinkel Servitas
X-ALT-DESC;FMTTYPE=text/html:<a href='/agenda/2026/4/25/kringloopwinkel-servitas-372811'>/agenda/2026/4/25/kringloopwinkel-servitas-372811</a> || <p>U bent van harte welkom in onze gezellige kringloopwinkel aan de Poolvos 2 in Huizen van de Stichting Servitas. Wat u zoekt kunt u zeker bij ons vinden. Wij werken uitsluitend met vrijwilligers op non profit basis</p>
DESCRIPTION:<a href='/agenda/2026/4/25/kringloopwinkel-servitas-372811'>/agenda/2026/4/25/kringloopwinkel-servitas-372811</a> || <p>U bent van harte welkom in onze gezellige kringloopwinkel aan de Poolvos 2 in Huizen van de Stichting Servitas. Wat u zoekt kunt u zeker bij ons vinden. Wij werken uitsluitend met vrijwilligers op non profit basis</p>
LAST-MODIFIED:20260424T091150Z
LOCATION: Poolvos 2 | Poolvos 2 Huizen
SEQUENCE:0
STATUS:CONFIRMED
SUMMARY:Kringloopwinkel Servitas
TRANSP:OPAQUE
END:VEVENT
END:VCALENDAR
