BEGIN:VCALENDAR
PRODID:-//PUBBLE//agenda//NL
VERSION:2.0
METHOD:PUBLISH
BEGIN:VEVENT
DTSTART:20260415T140000Z
DTEND:20260714T082600Z
DTSTAMP:20260421T133058Z
UID:631b12f9-bd5c-46ab-bf00-98488a412e0f
CREATED:20260421T133058Z
NAME:Energievragenuur gooiagenda.nl
X-WR-CALNAME:Energievragenuur
X-ALT-DESC;FMTTYPE=text/html:<a href='/agenda/2026/4/15/energievragenuur-372813'>/agenda/2026/4/15/energievragenuur-372813</a> || <p>Wil je je huis energiezuiniger maken, maar weet je niet waar je moet beginnen? Kom dan langs bij ons gratis energievragenuur van HilverZon. Hier kun je terecht met vragen over energiebesparing, isolatie, zonnepanelen, warmtepompen, subsidies en je energierekening.</p>
DESCRIPTION:<a href='/agenda/2026/4/15/energievragenuur-372813'>/agenda/2026/4/15/energievragenuur-372813</a> || <p>Wil je je huis energiezuiniger maken, maar weet je niet waar je moet beginnen? Kom dan langs bij ons gratis energievragenuur van HilverZon. Hier kun je terecht met vragen over energiebesparing, isolatie, zonnepanelen, warmtepompen, subsidies en je energierekening.</p>
LAST-MODIFIED:20260421T133058Z
LOCATION: Duurzaamheidscentrum Hilversum | Larenseweg 30 Hilversum
SEQUENCE:0
STATUS:CONFIRMED
SUMMARY:Energievragenuur
TRANSP:OPAQUE
END:VEVENT
END:VCALENDAR
