BEGIN:VCALENDAR
PRODID:-//PUBBLE//agenda//NL
VERSION:2.0
METHOD:PUBLISH
BEGIN:VEVENT
DTSTART:20260425T130000Z
DTEND:20260425T143000Z
DTSTAMP:20260424T133430Z
UID:48e8bb2a-1d53-4eff-8651-537db19c213f
CREATED:20260424T133430Z
NAME:Opening expo Har Bulters gooiagenda.nl
X-WR-CALNAME:Opening expo Har Bulters
X-ALT-DESC;FMTTYPE=text/html:<a href='/agenda/2026/4/25/opening-expo-har-bulters-372818'>/agenda/2026/4/25/opening-expo-har-bulters-372818</a> || <p>Op zaterdag 25 april 2026 (15:00 uur) opent de expositie ‘Van schets naar ziel” van Har Bulters in de (h)Artgalerij van het Brinkhuis. De expositie is gratis te zien tot 25 juni 2026. </p>
DESCRIPTION:<a href='/agenda/2026/4/25/opening-expo-har-bulters-372818'>/agenda/2026/4/25/opening-expo-har-bulters-372818</a> || <p>Op zaterdag 25 april 2026 (15:00 uur) opent de expositie ‘Van schets naar ziel” van Har Bulters in de (h)Artgalerij van het Brinkhuis. De expositie is gratis te zien tot 25 juni 2026. </p>
LAST-MODIFIED:20260424T133430Z
LOCATION: Brinkhuis | Brink 29 Laren
SEQUENCE:0
STATUS:CONFIRMED
SUMMARY:Opening expo Har Bulters
TRANSP:OPAQUE
END:VEVENT
END:VCALENDAR
