BEGIN:VCALENDAR
PRODID:-//PUBBLE//agenda//NL
VERSION:2.0
METHOD:PUBLISH
BEGIN:VEVENT
DTSTART:20260422T123000Z
DTEND:20260422T153900Z
DTSTAMP:20260422T115844Z
UID:1247968a-e45b-456f-8495-a4ef6f631731
CREATED:20260422T115844Z
NAME:Creatief met Riso gooiagenda.nl
X-WR-CALNAME:Creatief met Riso
X-ALT-DESC;FMTTYPE=text/html:<a href='/agenda/2026/4/22/creatief-met-riso-372842'>/agenda/2026/4/22/creatief-met-riso-372842</a> || <p>Stap in de wereld van de Risograph en ontdek een analoge druktechniek die tussen een zeefdruk en een kopieerapparaat in zit. Geen schermen, geen digitale tools – maar knippen, plakken, inkt, waterverf en een flinke dosis experiment! </p>
DESCRIPTION:<a href='/agenda/2026/4/22/creatief-met-riso-372842'>/agenda/2026/4/22/creatief-met-riso-372842</a> || <p>Stap in de wereld van de Risograph en ontdek een analoge druktechniek die tussen een zeefdruk en een kopieerapparaat in zit. Geen schermen, geen digitale tools – maar knippen, plakken, inkt, waterverf en een flinke dosis experiment! </p>
LAST-MODIFIED:20260422T115844Z
LOCATION: Haven 5 | Havenstraat 5 Huizen
SEQUENCE:0
STATUS:CONFIRMED
SUMMARY:Creatief met Riso
TRANSP:OPAQUE
END:VEVENT
END:VCALENDAR
