BEGIN:VCALENDAR
PRODID:-//PUBBLE//agenda//NL
VERSION:2.0
METHOD:PUBLISH
BEGIN:VEVENT
DTSTART:20260426T113500Z
DTEND:20260426T103000Z
DTSTAMP:20260425T134833Z
UID:4fef48b1-7b51-41bd-9780-28928d2af793
CREATED:20260425T134833Z
NAME:zondag koffieconcert gooiagenda.nl
X-WR-CALNAME:zondag koffieconcert
X-ALT-DESC;FMTTYPE=text/html:<a href='/agenda/2026/4/26/zondag-koffieconcert-372846'>/agenda/2026/4/26/zondag-koffieconcert-372846</a> || <p>Zondag 26 april speelt bij ons Nicolas Bernaldes Gomez op de piano. Het concert begint om 11.30 uur en duurt een uur. Inloop vanaf 11.00 uur met koffie en lekkers (bij de prijs inbegrepen)</p>
DESCRIPTION:<a href='/agenda/2026/4/26/zondag-koffieconcert-372846'>/agenda/2026/4/26/zondag-koffieconcert-372846</a> || <p>Zondag 26 april speelt bij ons Nicolas Bernaldes Gomez op de piano. Het concert begint om 11.30 uur en duurt een uur. Inloop vanaf 11.00 uur met koffie en lekkers (bij de prijs inbegrepen)</p>
LAST-MODIFIED:20260425T134833Z
LOCATION: Papageno Huis | Naarderstraat 77 Laren
SEQUENCE:0
STATUS:CONFIRMED
SUMMARY:zondag koffieconcert
TRANSP:OPAQUE
END:VEVENT
END:VCALENDAR
