BEGIN:VCALENDAR
PRODID:-//PUBBLE//agenda//NL
VERSION:2.0
METHOD:PUBLISH
BEGIN:VEVENT
DTSTART:20260503T113700Z
DTEND:20260503T103000Z
DTSTAMP:20260425T161807Z
UID:d3ff7141-977c-4caa-9583-29116cbd68f7
CREATED:20260425T161807Z
NAME:zondag koffieconcert gooiagenda.nl
X-WR-CALNAME:zondag koffieconcert
X-ALT-DESC;FMTTYPE=text/html:<a href='/agenda/2026/5/3/zondag-koffieconcert-372847'>/agenda/2026/5/3/zondag-koffieconcert-372847</a> || <p>Zondag 3 mei speelt bij ons het Onnuri Sarang Chamber Orchestra.Het concert begint om 11.30 uur en duurt een uur. Inloop vanaf 11.00 uur met koffie en lekkers (bij de prijs inbegrepen)</p>
DESCRIPTION:<a href='/agenda/2026/5/3/zondag-koffieconcert-372847'>/agenda/2026/5/3/zondag-koffieconcert-372847</a> || <p>Zondag 3 mei speelt bij ons het Onnuri Sarang Chamber Orchestra.Het concert begint om 11.30 uur en duurt een uur. Inloop vanaf 11.00 uur met koffie en lekkers (bij de prijs inbegrepen)</p>
LAST-MODIFIED:20260425T161807Z
LOCATION: Papageno Huis | Naarderstraat 77 Laren
SEQUENCE:0
STATUS:CONFIRMED
SUMMARY:zondag koffieconcert
TRANSP:OPAQUE
END:VEVENT
END:VCALENDAR
