BEGIN:VCALENDAR
PRODID:-//PUBBLE//agenda//NL
VERSION:2.0
METHOD:PUBLISH
BEGIN:VEVENT
DTSTART:20260423T180000Z
DTEND:20260423T191500Z
DTSTAMP:20260423T054050Z
UID:bae48ee6-6d22-4955-ad86-3f02b4b7cab3
CREATED:20260423T054050Z
NAME:Orgel/pianoconcert gooiagenda.nl
X-WR-CALNAME:Orgel/pianoconcert
X-ALT-DESC;FMTTYPE=text/html:<a href='/agenda/2026/4/23/orgel-pianoconcert-372988'>/agenda/2026/4/23/orgel-pianoconcert-372988</a> || <p>Op donderdag 23 april geeft Christine Kamp een orgel/pianoconcert in de Grote Kerk van Weesp.</p><p>Op het programma staan zowel klassieke werken als werken met een jazzy invloed. Componisten zijn o.a. Sarah Watts, Rosalie Bonighton, J.S. Bach, R. Schumann en L. von Beethoven.</p><p>Entrée is € 15,- incl. drankje</p>
DESCRIPTION:<a href='/agenda/2026/4/23/orgel-pianoconcert-372988'>/agenda/2026/4/23/orgel-pianoconcert-372988</a> || <p>Op donderdag 23 april geeft Christine Kamp een orgel/pianoconcert in de Grote Kerk van Weesp.</p><p>Op het programma staan zowel klassieke werken als werken met een jazzy invloed. Componisten zijn o.a. Sarah Watts, Rosalie Bonighton, J.S. Bach, R. Schumann en L. von Beethoven.</p><p>Entrée is € 15,- incl. drankje</p>
LAST-MODIFIED:20260423T054050Z
LOCATION: Grote Kerk Nieuwstraat 31 | Nieuwstraat 31 Weesp
SEQUENCE:0
STATUS:CONFIRMED
SUMMARY:Orgel/pianoconcert
TRANSP:OPAQUE
END:VEVENT
END:VCALENDAR
