BEGIN:VCALENDAR
PRODID:-//PUBBLE//agenda//NL
VERSION:2.0
METHOD:PUBLISH
BEGIN:VEVENT
DTSTART:20260420T150000Z
DTEND:20261130T070100Z
DTSTAMP:20260425T165121Z
UID:10ed7ac2-f69e-4dbd-b0bd-592391fe6145
CREATED:20260425T165121Z
NAME:Samen eten en  samen koken gooiagenda.nl
X-WR-CALNAME:Samen eten en  samen koken
X-ALT-DESC;FMTTYPE=text/html:<a href='/agenda/2026/4/20/samen-eten-en-samen-koken-373047'>/agenda/2026/4/20/samen-eten-en-samen-koken-373047</a> || <p>Samen eten en samen koken als je dat leuk vind . Lachen en genieten van 3 gangen maaltijd &nbsp;voor €8,50 ( excl drankjes) en nieuwe ontmoetingen. We sluiten de avond gezellig af met een kopje koffie /thee van het huis. Meld je aan via <a href="mailto:Soov@vivium.nl">Soov@vivium.nl</a> of &nbsp;035-6924949</p>
DESCRIPTION:<a href='/agenda/2026/4/20/samen-eten-en-samen-koken-373047'>/agenda/2026/4/20/samen-eten-en-samen-koken-373047</a> || <p>Samen eten en samen koken als je dat leuk vind . Lachen en genieten van 3 gangen maaltijd &nbsp;voor €8,50 ( excl drankjes) en nieuwe ontmoetingen. We sluiten de avond gezellig af met een kopje koffie /thee van het huis. Meld je aan via <a href="mailto:Soov@vivium.nl">Soov@vivium.nl</a> of &nbsp;035-6924949</p>
LAST-MODIFIED:20260425T165121Z
LOCATION: SOOV | Lange Heul 32 Bussum
SEQUENCE:0
STATUS:CONFIRMED
SUMMARY:Samen eten en  samen koken
TRANSP:OPAQUE
END:VEVENT
END:VCALENDAR
