BEGIN:VCALENDAR
PRODID:-//PUBBLE//agenda//NL
VERSION:2.0
METHOD:PUBLISH
BEGIN:VEVENT
DTSTART:20260420T080000Z
DTEND:20260630T141300Z
DTSTAMP:20260421T133246Z
UID:0d627cac-71b3-425b-a702-d0d922feee99
CREATED:20260421T133246Z
NAME:Wandelen  in de buurt gooiagenda.nl
X-WR-CALNAME:Wandelen  in de buurt
X-ALT-DESC;FMTTYPE=text/html:<a href='/agenda/2026/4/20/wandelen-in-de-buurt-373107'>/agenda/2026/4/20/wandelen-in-de-buurt-373107</a> || <p>Een nieuwe wekelijkse wandelgroep vanuit wijkcentrum Uit-Wijk. Georganiseerd samen met Stichting Gezond Natuur Wandelen. Kosteloos, in een rustig tempo, begeleid door vrijwilligers. Duur: +/- 1 uur, daarna (gratis) koffie/thee in buurthuis. Aanmelden niet nodig. info: elindhout@versawelzijn.nl</p>
DESCRIPTION:<a href='/agenda/2026/4/20/wandelen-in-de-buurt-373107'>/agenda/2026/4/20/wandelen-in-de-buurt-373107</a> || <p>Een nieuwe wekelijkse wandelgroep vanuit wijkcentrum Uit-Wijk. Georganiseerd samen met Stichting Gezond Natuur Wandelen. Kosteloos, in een rustig tempo, begeleid door vrijwilligers. Duur: +/- 1 uur, daarna (gratis) koffie/thee in buurthuis. Aanmelden niet nodig. info: elindhout@versawelzijn.nl</p>
LAST-MODIFIED:20260421T133246Z
LOCATION: Wijkcentrum Uit-Wijk | dr. Schaepmanlaan 10 Bussum
SEQUENCE:0
STATUS:CONFIRMED
SUMMARY:Wandelen  in de buurt
TRANSP:OPAQUE
END:VEVENT
END:VCALENDAR
