BEGIN:VCALENDAR
PRODID:-//PUBBLE//agenda//NL
VERSION:2.0
METHOD:PUBLISH
BEGIN:VEVENT
DTSTART:20260425T180000Z
DTEND:20260525T200000Z
DTSTAMP:20260424T133324Z
UID:c36b25f3-e943-409f-8885-339e757a6f5e
CREATED:20260424T133324Z
NAME:Niki Jacobs & Band gooiagenda.nl
X-WR-CALNAME:Niki Jacobs & Band
X-ALT-DESC;FMTTYPE=text/html:<a href='/agenda/2026/4/25/niki-jacobs-amp-band-373125'>/agenda/2026/4/25/niki-jacobs-amp-band-373125</a> || <p>Op de jaarlijkse herdenkingsavond in de Weesper Synagoge treedt dit jaar Niki Jacobs op met een bijzonder en nieuw muziekprogramma ‘The Front Porch Sessie’. Een mengeling van oude en nieuwe liederen zoals het Kol Nidrei en werk van Bob Dylan, waarin verleden en heden elkaar ontmoeten.</p>
DESCRIPTION:<a href='/agenda/2026/4/25/niki-jacobs-amp-band-373125'>/agenda/2026/4/25/niki-jacobs-amp-band-373125</a> || <p>Op de jaarlijkse herdenkingsavond in de Weesper Synagoge treedt dit jaar Niki Jacobs op met een bijzonder en nieuw muziekprogramma ‘The Front Porch Sessie’. Een mengeling van oude en nieuwe liederen zoals het Kol Nidrei en werk van Bob Dylan, waarin verleden en heden elkaar ontmoeten.</p>
LAST-MODIFIED:20260424T133324Z
LOCATION: Weesper Synagoge | Nieuwstraat 3 - 5 Weesp
SEQUENCE:0
STATUS:CONFIRMED
SUMMARY:Niki Jacobs & Band
TRANSP:OPAQUE
END:VEVENT
END:VCALENDAR
