BEGIN:VCALENDAR
PRODID:-//PUBBLE//agenda//NL
VERSION:2.0
METHOD:PUBLISH
BEGIN:VEVENT
DTSTART:20260421T123000Z
DTEND:20261221T104900Z
DTSTAMP:20260424T182132Z
UID:c3b2f63e-5391-4544-bb8a-c8f0cfb6c20c
CREATED:20260424T182132Z
NAME:Leefstijlpunt Gooise Meren gooiagenda.nl
X-WR-CALNAME:Leefstijlpunt Gooise Meren
X-ALT-DESC;FMTTYPE=text/html:<a href='/agenda/2026/4/21/leefstijlpunt-gooise-meren-373158'>/agenda/2026/4/21/leefstijlpunt-gooise-meren-373158</a> || <p>Het Leefstijlpunt Gooise Meren heeft meerdere locaties waar je terecht kunt met vragen over (hersen)gezondheid, sociale activiteiten, sport en bewegen, (digitale) hulp en ondersteuning en nog veel meer over leefstijl.</p>
DESCRIPTION:<a href='/agenda/2026/4/21/leefstijlpunt-gooise-meren-373158'>/agenda/2026/4/21/leefstijlpunt-gooise-meren-373158</a> || <p>Het Leefstijlpunt Gooise Meren heeft meerdere locaties waar je terecht kunt met vragen over (hersen)gezondheid, sociale activiteiten, sport en bewegen, (digitale) hulp en ondersteuning en nog veel meer over leefstijl.</p>
LAST-MODIFIED:20260424T182132Z
LOCATION: De Plataan/Bibliotheek Naarden | Majoor Kampsstraat 3 Naarden
SEQUENCE:0
STATUS:CONFIRMED
SUMMARY:Leefstijlpunt Gooise Meren
TRANSP:OPAQUE
END:VEVENT
END:VCALENDAR
