BEGIN:VCALENDAR
PRODID:-//PUBBLE//agenda//NL
VERSION:2.0
METHOD:PUBLISH
BEGIN:VEVENT
DTSTART:20260421T120000Z
DTEND:20261231T135600Z
DTSTAMP:20260421T170732Z
UID:f41b68a7-9646-42a7-9a0e-092dd8dbf0cf
CREATED:20260421T170732Z
NAME:Leefstijlpunt Gooise Meren gooiagenda.nl
X-WR-CALNAME:Leefstijlpunt Gooise Meren
X-ALT-DESC;FMTTYPE=text/html:<a href='/agenda/2026/4/21/leefstijlpunt-gooise-meren-373159'>/agenda/2026/4/21/leefstijlpunt-gooise-meren-373159</a> || <p>Het Leefstijlpunt Gooise Meren heeft meerdere locaties waar je terecht kunt met vragen over (hersen)gezondheid, sociale activiteiten, sport en bewegen, (digitale) hulp en ondersteuning en nog veel meer over leefstijl.</p>
DESCRIPTION:<a href='/agenda/2026/4/21/leefstijlpunt-gooise-meren-373159'>/agenda/2026/4/21/leefstijlpunt-gooise-meren-373159</a> || <p>Het Leefstijlpunt Gooise Meren heeft meerdere locaties waar je terecht kunt met vragen over (hersen)gezondheid, sociale activiteiten, sport en bewegen, (digitale) hulp en ondersteuning en nog veel meer over leefstijl.</p>
LAST-MODIFIED:20260421T170732Z
LOCATION: Bibliotheek Gooi+ Bussum | Wilhelminaplantsoen 18 Bussum
SEQUENCE:0
STATUS:CONFIRMED
SUMMARY:Leefstijlpunt Gooise Meren
TRANSP:OPAQUE
END:VEVENT
END:VCALENDAR
