BEGIN:VCALENDAR
PRODID:-//PUBBLE//agenda//NL
VERSION:2.0
METHOD:PUBLISH
BEGIN:VEVENT
DTSTART:20260421T090000Z
DTEND:20261231T140000Z
DTSTAMP:20260421T170150Z
UID:b1413d57-fd06-440d-858b-b417b02b8fcf
CREATED:20260421T170150Z
NAME:Leefstijlpunt Gooise Meren gooiagenda.nl
X-WR-CALNAME:Leefstijlpunt Gooise Meren
X-ALT-DESC;FMTTYPE=text/html:<a href='/agenda/2026/4/21/leefstijlpunt-gooise-meren-373160'>/agenda/2026/4/21/leefstijlpunt-gooise-meren-373160</a> || <p>Het Leefstijlpunt Gooise Meren heeft meerdere locaties waar je terecht kunt met vragen over (hersen)gezondheid, sociale activiteiten, sport en bewegen, (digitale) hulp en ondersteuning en nog veel meer over leefstijl.</p>
DESCRIPTION:<a href='/agenda/2026/4/21/leefstijlpunt-gooise-meren-373160'>/agenda/2026/4/21/leefstijlpunt-gooise-meren-373160</a> || <p>Het Leefstijlpunt Gooise Meren heeft meerdere locaties waar je terecht kunt met vragen over (hersen)gezondheid, sociale activiteiten, sport en bewegen, (digitale) hulp en ondersteuning en nog veel meer over leefstijl.</p>
LAST-MODIFIED:20260421T170150Z
LOCATION: Ontmoetingscentrum SOOV | Lange Heul 32 Bussum
SEQUENCE:0
STATUS:CONFIRMED
SUMMARY:Leefstijlpunt Gooise Meren
TRANSP:OPAQUE
END:VEVENT
END:VCALENDAR
