BEGIN:VCALENDAR
PRODID:-//PUBBLE//agenda//NL
VERSION:2.0
METHOD:PUBLISH
BEGIN:VEVENT
DTSTART:20260421T100000Z
DTEND:20261231T142700Z
DTSTAMP:20260422T120016Z
UID:30a38713-e684-4d46-9f02-0200b7ea20a5
CREATED:20260422T120016Z
NAME:Leefstijlpunt Gooise Meren gooiagenda.nl
X-WR-CALNAME:Leefstijlpunt Gooise Meren
X-ALT-DESC;FMTTYPE=text/html:<a href='/agenda/2026/4/21/leefstijlpunt-gooise-meren-373164'>/agenda/2026/4/21/leefstijlpunt-gooise-meren-373164</a> || <p>Het Leefstijlpunt Gooise Meren heeft meerdere locaties waar je terecht kunt met vragen over (hersen)gezondheid, sociale activiteiten, sport en bewegen, (digitale) hulp en ondersteuning en nog veel meer over leefstijl.</p>
DESCRIPTION:<a href='/agenda/2026/4/21/leefstijlpunt-gooise-meren-373164'>/agenda/2026/4/21/leefstijlpunt-gooise-meren-373164</a> || <p>Het Leefstijlpunt Gooise Meren heeft meerdere locaties waar je terecht kunt met vragen over (hersen)gezondheid, sociale activiteiten, sport en bewegen, (digitale) hulp en ondersteuning en nog veel meer over leefstijl.</p>
LAST-MODIFIED:20260422T120016Z
LOCATION: Het Kunstgebouw | Prinses Irenestraat 3 Muiden
SEQUENCE:0
STATUS:CONFIRMED
SUMMARY:Leefstijlpunt Gooise Meren
TRANSP:OPAQUE
END:VEVENT
END:VCALENDAR
